BEGIN:VCALENDAR
VERSION:2.0
PRODID:-//afe44.fr - ECPv6.15.17//NONSGML v1.0//EN
CALSCALE:GREGORIAN
METHOD:PUBLISH
X-WR-CALNAME:afe44.fr
X-ORIGINAL-URL:https://www.afe44.fr
X-WR-CALDESC:Évènements pour afe44.fr
REFRESH-INTERVAL;VALUE=DURATION:PT1H
X-Robots-Tag:noindex
X-PUBLISHED-TTL:PT1H
BEGIN:VTIMEZONE
TZID:Europe/Paris
BEGIN:DAYLIGHT
TZOFFSETFROM:+0100
TZOFFSETTO:+0200
TZNAME:CEST
DTSTART:20250330T010000
END:DAYLIGHT
BEGIN:STANDARD
TZOFFSETFROM:+0200
TZOFFSETTO:+0100
TZNAME:CET
DTSTART:20251026T010000
END:STANDARD
BEGIN:DAYLIGHT
TZOFFSETFROM:+0100
TZOFFSETTO:+0200
TZNAME:CEST
DTSTART:20260329T010000
END:DAYLIGHT
BEGIN:STANDARD
TZOFFSETFROM:+0200
TZOFFSETTO:+0100
TZNAME:CET
DTSTART:20261025T010000
END:STANDARD
BEGIN:DAYLIGHT
TZOFFSETFROM:+0100
TZOFFSETTO:+0200
TZNAME:CEST
DTSTART:20270328T010000
END:DAYLIGHT
BEGIN:STANDARD
TZOFFSETFROM:+0200
TZOFFSETTO:+0100
TZNAME:CET
DTSTART:20271031T010000
END:STANDARD
END:VTIMEZONE
BEGIN:VEVENT
DTSTART;TZID=Europe/Paris:20260104T100000
DTEND;TZID=Europe/Paris:20260104T123000
DTSTAMP:20260422T111031
CREATED:20251227T194832Z
LAST-MODIFIED:20260304T054628Z
UID:45094-1767520800-1767529800@www.afe44.fr
SUMMARY:Culte dimanche - 10h30
DESCRIPTION:
URL:https://www.afe44.fr/evenement/culte-dimanche-10h30-14/
LOCATION:Eglise AFE\, 10 rue de la Rabotière\, Saint-Herblain\, 44800\, France
CATEGORIES:AFE
ATTACH;FMTTYPE=image/jpeg:https://www.afe44.fr/wp-content/uploads/2022/09/fd_afe.jpg
END:VEVENT
BEGIN:VEVENT
DTSTART;TZID=Europe/Paris:20260111T100000
DTEND;TZID=Europe/Paris:20260111T123000
DTSTAMP:20260422T111031
CREATED:20251227T194924Z
LAST-MODIFIED:20251227T194924Z
UID:45096-1768125600-1768134600@www.afe44.fr
SUMMARY:Culte dimanche - 10h30
DESCRIPTION:
URL:https://www.afe44.fr/evenement/culte-dimanche-10h30-15/
LOCATION:Eglise AFE\, 10 rue de la Rabotière\, Saint-Herblain\, 44800\, France
CATEGORIES:AFE
ATTACH;FMTTYPE=image/jpeg:https://www.afe44.fr/wp-content/uploads/2022/09/fd_afe.jpg
END:VEVENT
BEGIN:VEVENT
DTSTART;TZID=Europe/Paris:20260118T100000
DTEND;TZID=Europe/Paris:20260118T123000
DTSTAMP:20260422T111031
CREATED:20251227T195008Z
LAST-MODIFIED:20251227T195008Z
UID:45098-1768730400-1768739400@www.afe44.fr
SUMMARY:Culte dimanche - 10h30
DESCRIPTION:
URL:https://www.afe44.fr/evenement/culte-dimanche-10h30-16/
LOCATION:Eglise AFE\, 10 rue de la Rabotière\, Saint-Herblain\, 44800\, France
CATEGORIES:AFE
ATTACH;FMTTYPE=image/jpeg:https://www.afe44.fr/wp-content/uploads/2022/09/fd_afe.jpg
END:VEVENT
BEGIN:VEVENT
DTSTART;TZID=Europe/Paris:20260118T140000
DTEND;TZID=Europe/Paris:20260118T170000
DTSTAMP:20260422T111031
CREATED:20251227T195602Z
LAST-MODIFIED:20251227T195604Z
UID:45104-1768744800-1768755600@www.afe44.fr
SUMMARY:Après-midi église ouverte - Activités
DESCRIPTION:Après-midi ouvert à tous ! \nPour faire des jeux\, du bricolage\, une promenade\, discuter\, prendre du temps ensemble… Invitez vos amis pour profiter de ce temps à part. \nChaque mois\, une activité différente est proposée. \nVous pouvez rester manger après le culte (repas tirés des sacs)
URL:https://www.afe44.fr/evenement/apres-midi-eglise-ouverte-activites/
LOCATION:Eglise AFE\, 10 rue de la Rabotière\, Saint-Herblain\, 44800\, France
CATEGORIES:Activités,AFE
ATTACH;FMTTYPE=image/jpeg:https://www.afe44.fr/wp-content/uploads/2022/09/AtelierCreatif.jpg
END:VEVENT
BEGIN:VEVENT
DTSTART;TZID=Europe/Paris:20260125T100000
DTEND;TZID=Europe/Paris:20260125T123000
DTSTAMP:20260422T111031
CREATED:20251227T195052Z
LAST-MODIFIED:20251227T195052Z
UID:45100-1769335200-1769344200@www.afe44.fr
SUMMARY:Culte dimanche - 10h30
DESCRIPTION:
URL:https://www.afe44.fr/evenement/culte-dimanche-10h30-17/
LOCATION:Eglise AFE\, 10 rue de la Rabotière\, Saint-Herblain\, 44800\, France
CATEGORIES:AFE
END:VEVENT
BEGIN:VEVENT
DTSTART;TZID=Europe/Paris:20260130T193000
DTEND;TZID=Europe/Paris:20260130T213000
DTSTAMP:20260422T111031
CREATED:20251227T195213Z
LAST-MODIFIED:20251227T195213Z
UID:45102-1769801400-1769808600@www.afe44.fr
SUMMARY:Culte vendredi – 20h00 (Louange\, Adoration\, Intercession)
DESCRIPTION:
URL:https://www.afe44.fr/evenement/culte-vendredi-20h00-louange-adoration-intercession/
LOCATION:Eglise AFE\, 10 rue de la Rabotière\, Saint-Herblain\, 44800\, France
CATEGORIES:AFE
ATTACH;FMTTYPE=image/jpeg:https://www.afe44.fr/wp-content/uploads/2022/09/fd_afe.jpg
END:VEVENT
END:VCALENDAR