BEGIN:VCALENDAR
VERSION:2.0
PRODID:-//afe44.fr - ECPv6.15.17//NONSGML v1.0//EN
CALSCALE:GREGORIAN
METHOD:PUBLISH
X-ORIGINAL-URL:https://www.afe44.fr
X-WR-CALDESC:Évènements pour afe44.fr
REFRESH-INTERVAL;VALUE=DURATION:PT1H
X-Robots-Tag:noindex
X-PUBLISHED-TTL:PT1H
BEGIN:VTIMEZONE
TZID:Europe/Paris
BEGIN:DAYLIGHT
TZOFFSETFROM:+0100
TZOFFSETTO:+0200
TZNAME:CEST
DTSTART:20250330T010000
END:DAYLIGHT
BEGIN:STANDARD
TZOFFSETFROM:+0200
TZOFFSETTO:+0100
TZNAME:CET
DTSTART:20251026T010000
END:STANDARD
BEGIN:DAYLIGHT
TZOFFSETFROM:+0100
TZOFFSETTO:+0200
TZNAME:CEST
DTSTART:20260329T010000
END:DAYLIGHT
BEGIN:STANDARD
TZOFFSETFROM:+0200
TZOFFSETTO:+0100
TZNAME:CET
DTSTART:20261025T010000
END:STANDARD
BEGIN:DAYLIGHT
TZOFFSETFROM:+0100
TZOFFSETTO:+0200
TZNAME:CEST
DTSTART:20270328T010000
END:DAYLIGHT
BEGIN:STANDARD
TZOFFSETFROM:+0200
TZOFFSETTO:+0100
TZNAME:CET
DTSTART:20271031T010000
END:STANDARD
END:VTIMEZONE
BEGIN:VEVENT
DTSTART;TZID=Europe/Paris:20260306T090000
DTEND;TZID=Europe/Paris:20260306T100000
DTSTAMP:20260420T095729
CREATED:20260304T103510Z
LAST-MODIFIED:20260304T133741Z
UID:45225-1772787600-1772791200@www.afe44.fr
SUMMARY:Prière pour Israël
DESCRIPTION:
URL:https://www.afe44.fr/evenement/priere-pour-israel/
LOCATION:Eglise AFE\, 10 rue de la Rabotière\, Saint-Herblain\, 44800\, France
CATEGORIES:Activités,AFE
ATTACH;FMTTYPE=image/png:https://www.afe44.fr/wp-content/uploads/2026/03/Fd_AFE_Israel.png
END:VEVENT
BEGIN:VEVENT
DTSTART;TZID=Europe/Paris:20260308T093000
DTEND;TZID=Europe/Paris:20260308T123000
DTSTAMP:20260420T095729
CREATED:20260122T134510Z
LAST-MODIFIED:20260303T102357Z
UID:45138-1772962200-1772973000@www.afe44.fr
SUMMARY:Culte dimanche + AG - 10h00
DESCRIPTION:Attention : Exceptionnellement\, le culte commence une demi-heure plus tôt (10h à la place de 10h30) afin de faire l’Assemblée Générale de l’association cultuelle à la suite du culte. Tous les membres sont convoqués\, regardez vos emails.
URL:https://www.afe44.fr/evenement/culte-dimanche-10h30-21/
LOCATION:Eglise AFE\, 10 rue de la Rabotière\, Saint-Herblain\, 44800\, France
CATEGORIES:AFE
ATTACH;FMTTYPE=image/jpeg:https://www.afe44.fr/wp-content/uploads/2022/09/fd_afe.jpg
END:VEVENT
BEGIN:VEVENT
DTSTART;TZID=Europe/Paris:20260313T200000
DTEND;TZID=Europe/Paris:20260313T220000
DTSTAMP:20260420T095729
CREATED:20260304T114214Z
LAST-MODIFIED:20260304T115522Z
UID:45285-1773432000-1773439200@www.afe44.fr
SUMMARY:Répétition Equipe de Louange
DESCRIPTION:
URL:https://www.afe44.fr/evenement/repetition-equipe-de-louange/
LOCATION:Eglise AFE\, 10 rue de la Rabotière\, Saint-Herblain\, 44800\, France
CATEGORIES:Activités
ATTACH;FMTTYPE=image/jpeg:https://www.afe44.fr/wp-content/uploads/2022/09/groupeDeLouange.jpg
END:VEVENT
BEGIN:VEVENT
DTSTART;TZID=Europe/Paris:20260314T100000
DTEND;TZID=Europe/Paris:20260314T113000
DTSTAMP:20260420T095729
CREATED:20260304T115554Z
LAST-MODIFIED:20260304T151645Z
UID:45287-1773482400-1773487800@www.afe44.fr
SUMMARY:Matinée musicale libre
DESCRIPTION:Samuel (bassiste) et Dawid (pianiste) vous accueillent pour un temps musical libre. \nAu programme\, venez avec votre instrument (batterie disponible sur place) ou votre voix et venez chanter/louer Dieu ou travailler votre instrument avec les 2 frangins.
URL:https://www.afe44.fr/evenement/matinee-musicale/
LOCATION:Eglise AFE\, 10 rue de la Rabotière\, Saint-Herblain\, 44800\, France
CATEGORIES:Activités
ATTACH;FMTTYPE=image/png:https://www.afe44.fr/wp-content/uploads/2026/03/Fd_AFE_MatineeMusicale.png
END:VEVENT
BEGIN:VEVENT
DTSTART;TZID=Europe/Paris:20260314T100000
DTEND;TZID=Europe/Paris:20260314T120000
DTSTAMP:20260420T095729
CREATED:20260304T122226Z
LAST-MODIFIED:20260304T122452Z
UID:45303-1773482400-1773489600@www.afe44.fr
SUMMARY:Permanence pastorale
DESCRIPTION:Une fois par mois\, les pasteurs proposent de vous rencontrer sur RDV le samedi matin.\nMerci de câler en priorité vos demandes d’accompagnement ou de prière sur ces samedi. \nPour la prise de RDV\, rapprochez vous de vos pasteurs (Jean\, Marie-Andrée\, Jean-Baptiste ou Anne-Lise)
URL:https://www.afe44.fr/evenement/permanence-pastorale/
LOCATION:Eglise AFE\, 10 rue de la Rabotière\, Saint-Herblain\, 44800\, France
CATEGORIES:Activités
END:VEVENT
BEGIN:VEVENT
DTSTART;TZID=Europe/Paris:20260314T203000
DTEND;TZID=Europe/Paris:20260314T223000
DTSTAMP:20260420T095729
CREATED:20260304T121155Z
LAST-MODIFIED:20260304T121225Z
UID:45295-1773520200-1773527400@www.afe44.fr
SUMMARY:Soirée JPense
DESCRIPTION:JPense est un mélage unique de concert live et de conférence accessible\, où l’on explore une grande question : « Est-ce qu’il y a de bonnes raisons de croire en Dieu aujourd’hui ? » \nDans une ambiance détendue\, l’orateur aborde le thème avec humour\, honnêteté et sans tabou. \nThème de cette soirée : « Qui était vraiment Jésus ? » \nUn personnage qui a marqué l’histoire comme aucun autre… Mais qui était-il vraiment ? Un sage ? Un révolutionnaire ? Un mythe ? Un fou ? Le fils de Dieu ? \n> RDV à 18h00 pour les jeunes de l’église dans les locaux d’AFE (pour les jeunes à partir du collège). Vous mangerez ensemble (pizza\, Mac Do\, Burger King…) et ensuite direction la soirée JPense.
URL:https://www.afe44.fr/evenement/soiree-jpense/
CATEGORIES:Activités,Autres
ATTACH;FMTTYPE=image/jpeg:https://www.afe44.fr/wp-content/uploads/2026/03/affiche-JPENSE-14-mars.jpg
END:VEVENT
BEGIN:VEVENT
DTSTART;TZID=Europe/Paris:20260315T100000
DTEND;TZID=Europe/Paris:20260315T123000
DTSTAMP:20260420T095729
CREATED:20260122T134549Z
LAST-MODIFIED:20260122T134549Z
UID:45140-1773568800-1773577800@www.afe44.fr
SUMMARY:Culte dimanche - 10h30
DESCRIPTION:
URL:https://www.afe44.fr/evenement/culte-dimanche-10h30-22/
LOCATION:Eglise AFE\, 10 rue de la Rabotière\, Saint-Herblain\, 44800\, France
CATEGORIES:AFE
ATTACH;FMTTYPE=image/jpeg:https://www.afe44.fr/wp-content/uploads/2022/09/fd_afe.jpg
END:VEVENT
BEGIN:VEVENT
DTSTART;TZID=Europe/Paris:20260317T203000
DTEND;TZID=Europe/Paris:20260317T220000
DTSTAMP:20260420T095729
CREATED:20260304T121821Z
LAST-MODIFIED:20260304T121821Z
UID:45301-1773779400-1773784800@www.afe44.fr
SUMMARY:Réunion de l'équipe de Responsables
DESCRIPTION:
URL:https://www.afe44.fr/evenement/reunion-de-lequipe-de-responsables/
LOCATION:Dans les maisons
CATEGORIES:Activités
END:VEVENT
BEGIN:VEVENT
DTSTART;TZID=Europe/Paris:20260322T100000
DTEND;TZID=Europe/Paris:20260322T123000
DTSTAMP:20260420T095729
CREATED:20260122T134626Z
LAST-MODIFIED:20260122T134626Z
UID:45142-1774173600-1774182600@www.afe44.fr
SUMMARY:Culte dimanche - 10h30
DESCRIPTION:
URL:https://www.afe44.fr/evenement/culte-dimanche-10h30-23/
LOCATION:Eglise AFE\, 10 rue de la Rabotière\, Saint-Herblain\, 44800\, France
CATEGORIES:AFE
ATTACH;FMTTYPE=image/jpeg:https://www.afe44.fr/wp-content/uploads/2022/09/fd_afe.jpg
END:VEVENT
BEGIN:VEVENT
DTSTART;TZID=Europe/Paris:20260322T143000
DTEND;TZID=Europe/Paris:20260322T170000
DTSTAMP:20260420T095729
CREATED:20260304T111853Z
LAST-MODIFIED:20260304T111853Z
UID:45280-1774189800-1774198800@www.afe44.fr
SUMMARY:Après-midi récréative - Eglise ouverte !
DESCRIPTION:Après le culte\, vous pouvez manger sur place avec un repas tiré du sac. \nEnsuite\, des activités sont proposées par les membres de l’église AFE\, diverses et variées.\nVoici quelques idées : Bricolage\, cours de sonorisation\, cours de chant\, Couture\, Peinture\, Promenade pour découvrir de nouveaux lieux\, Jeux de société… etc… \nSoyez les bienvenus et n’oubliez pas d’inviter des ami(e)s !
URL:https://www.afe44.fr/evenement/apres-midi-recreative-eglise-ouverte/
LOCATION:Eglise AFE\, 10 rue de la Rabotière\, Saint-Herblain\, 44800\, France
CATEGORIES:Activités
ATTACH;FMTTYPE=image/jpeg:https://www.afe44.fr/wp-content/uploads/2022/09/AtelierCreatif.jpg
END:VEVENT
BEGIN:VEVENT
DTSTART;TZID=Europe/Paris:20260324T203000
DTEND;TZID=Europe/Paris:20260324T220000
DTSTAMP:20260420T095729
CREATED:20260304T104026Z
LAST-MODIFIED:20260304T104309Z
UID:45230-1774384200-1774389600@www.afe44.fr
SUMMARY:Groupe de maison #1 MARDI
DESCRIPTION:
URL:https://www.afe44.fr/evenement/groupe-de-maison-1-mardi-2/
LOCATION:Dans les maisons
CATEGORIES:Activités,AFE
ATTACH;FMTTYPE=image/jpeg:https://www.afe44.fr/wp-content/uploads/2022/09/GroupeDeMaison.jpg
END:VEVENT
BEGIN:VEVENT
DTSTART;TZID=Europe/Paris:20260325T143000
DTEND;TZID=Europe/Paris:20260325T160000
DTSTAMP:20260420T095729
CREATED:20260304T105323Z
LAST-MODIFIED:20260304T105422Z
UID:45244-1774449000-1774454400@www.afe44.fr
SUMMARY:Groupe de maison #2 MERCREDI
DESCRIPTION:
URL:https://www.afe44.fr/evenement/groupe-de-maison-2-mercredi/
LOCATION:Dans les maisons
CATEGORIES:Activités,AFE
ATTACH;FMTTYPE=image/jpeg:https://www.afe44.fr/wp-content/uploads/2022/09/GroupeDeMaison.jpg
END:VEVENT
BEGIN:VEVENT
DTSTART;TZID=Europe/Paris:20260327T193000
DTEND;TZID=Europe/Paris:20260327T213000
DTSTAMP:20260420T095729
CREATED:20260122T134715Z
LAST-MODIFIED:20260415T154545Z
UID:45144-1774639800-1774647000@www.afe44.fr
SUMMARY:Culte vendredi soir - 20h00
DESCRIPTION:
URL:https://www.afe44.fr/evenement/culte-vendredi-soir-20h00-2/
LOCATION:Eglise AFE\, 10 rue de la Rabotière\, Saint-Herblain\, 44800\, France
CATEGORIES:AFE
ATTACH;FMTTYPE=image/jpeg:https://www.afe44.fr/wp-content/uploads/2022/09/fd_afe.jpg
END:VEVENT
BEGIN:VEVENT
DTSTART;TZID=Europe/Paris:20260328T100000
DTEND;TZID=Europe/Paris:20260328T113000
DTSTAMP:20260420T095729
CREATED:20260304T115740Z
LAST-MODIFIED:20260304T151549Z
UID:45292-1774692000-1774697400@www.afe44.fr
SUMMARY:Matinée musicale libre
DESCRIPTION:Samuel (bassiste) et Dawid (pianiste) vous accueillent pour un temps musical libre. \nAu programme\, venez avec votre instrument (batterie disponible sur place) ou votre voix et venez chanter/louer Dieu ou travailler votre instrument avec les 2 frangins.
URL:https://www.afe44.fr/evenement/matinee-musicale-libre/
LOCATION:Eglise AFE\, 10 rue de la Rabotière\, Saint-Herblain\, 44800\, France
CATEGORIES:Activités
ATTACH;FMTTYPE=image/png:https://www.afe44.fr/wp-content/uploads/2026/03/Fd_AFE_MatineeMusicale.png
END:VEVENT
BEGIN:VEVENT
DTSTART;TZID=Europe/Paris:20260331T203000
DTEND;TZID=Europe/Paris:20260331T220000
DTSTAMP:20260420T095729
CREATED:20260304T121729Z
LAST-MODIFIED:20260304T121729Z
UID:45299-1774989000-1774994400@www.afe44.fr
SUMMARY:Réunion Pastorale
DESCRIPTION:
URL:https://www.afe44.fr/evenement/reunion-pastorale/
LOCATION:Dans les maisons
CATEGORIES:Activités
END:VEVENT
END:VCALENDAR