BEGIN:VCALENDAR
VERSION:2.0
PRODID:-//afe44.fr - ECPv6.15.17//NONSGML v1.0//EN
CALSCALE:GREGORIAN
METHOD:PUBLISH
X-WR-CALNAME:afe44.fr
X-ORIGINAL-URL:https://www.afe44.fr
X-WR-CALDESC:Évènements pour afe44.fr
REFRESH-INTERVAL;VALUE=DURATION:PT1H
X-Robots-Tag:noindex
X-PUBLISHED-TTL:PT1H
BEGIN:VTIMEZONE
TZID:Europe/Paris
BEGIN:DAYLIGHT
TZOFFSETFROM:+0100
TZOFFSETTO:+0200
TZNAME:CEST
DTSTART:20250330T010000
END:DAYLIGHT
BEGIN:STANDARD
TZOFFSETFROM:+0200
TZOFFSETTO:+0100
TZNAME:CET
DTSTART:20251026T010000
END:STANDARD
BEGIN:DAYLIGHT
TZOFFSETFROM:+0100
TZOFFSETTO:+0200
TZNAME:CEST
DTSTART:20260329T010000
END:DAYLIGHT
BEGIN:STANDARD
TZOFFSETFROM:+0200
TZOFFSETTO:+0100
TZNAME:CET
DTSTART:20261025T010000
END:STANDARD
BEGIN:DAYLIGHT
TZOFFSETFROM:+0100
TZOFFSETTO:+0200
TZNAME:CEST
DTSTART:20270328T010000
END:DAYLIGHT
BEGIN:STANDARD
TZOFFSETFROM:+0200
TZOFFSETTO:+0100
TZNAME:CET
DTSTART:20271031T010000
END:STANDARD
END:VTIMEZONE
BEGIN:VEVENT
DTSTART;TZID=Europe/Paris:20260421T203000
DTEND;TZID=Europe/Paris:20260421T220000
DTSTAMP:20260420T080943
CREATED:20260304T104325Z
LAST-MODIFIED:20260304T104444Z
UID:45232-1776803400-1776808800@www.afe44.fr
SUMMARY:Groupe de maison #1 MARDI
DESCRIPTION:
URL:https://www.afe44.fr/evenement/groupe-de-maison-1-mardi-3/
LOCATION:Dans les maisons
CATEGORIES:Activités,AFE
ATTACH;FMTTYPE=image/jpeg:https://www.afe44.fr/wp-content/uploads/2022/09/GroupeDeMaison.jpg
END:VEVENT
BEGIN:VEVENT
DTSTART;TZID=Europe/Paris:20260422T143000
DTEND;TZID=Europe/Paris:20260422T160000
DTSTAMP:20260420T080943
CREATED:20260304T105601Z
LAST-MODIFIED:20260304T105655Z
UID:45248-1776868200-1776873600@www.afe44.fr
SUMMARY:Groupe de maison #2 MERCREDI
DESCRIPTION:
URL:https://www.afe44.fr/evenement/groupe-de-maison-2-mercredi-3/
LOCATION:Dans les maisons
CATEGORIES:Activités,AFE
ATTACH;FMTTYPE=image/jpeg:https://www.afe44.fr/wp-content/uploads/2022/09/GroupeDeMaison.jpg
END:VEVENT
BEGIN:VEVENT
DTSTART;TZID=Europe/Paris:20260424T193000
DTEND;TZID=Europe/Paris:20260424T213000
DTSTAMP:20260420T080943
CREATED:20260122T134945Z
LAST-MODIFIED:20260122T134945Z
UID:45152-1777059000-1777066200@www.afe44.fr
SUMMARY:Culte vendredi soir - 20h00
DESCRIPTION:
URL:https://www.afe44.fr/evenement/culte-vendredi-soir-20h00-3/
LOCATION:Eglise AFE\, 10 rue de la Rabotière\, Saint-Herblain\, 44800\, France
CATEGORIES:AFE
ATTACH;FMTTYPE=image/jpeg:https://www.afe44.fr/wp-content/uploads/2022/09/fd_afe.jpg
END:VEVENT
END:VCALENDAR